BEGIN:VCALENDAR
VERSION:2.0
PRODID:-//Yara-Ensemble - ECPv6.11.2.1//NONSGML v1.0//EN
CALSCALE:GREGORIAN
METHOD:PUBLISH
X-WR-CALNAME:Yara-Ensemble
X-ORIGINAL-URL:https://yara-ensemble.de
X-WR-CALDESC:Events for Yara-Ensemble
REFRESH-INTERVAL;VALUE=DURATION:PT1H
X-Robots-Tag:noindex
X-PUBLISHED-TTL:PT1H
BEGIN:VTIMEZONE
TZID:UTC
BEGIN:STANDARD
TZOFFSETFROM:+0000
TZOFFSETTO:+0000
TZNAME:UTC
DTSTART:20250101T000000
END:STANDARD
END:VTIMEZONE
BEGIN:VEVENT
DTSTART;TZID=UTC:20251108T080000
DTEND;TZID=UTC:20251108T080000
DTSTAMP:20260422T173735
CREATED:20250430T120036Z
LAST-MODIFIED:20250430T120125Z
UID:277-1762588800-1762588800@yara-ensemble.de
SUMMARY:Brahms Requiem mit dem Yara-Ensemble
DESCRIPTION:Gemeinsam mit dem Chor der Auferstehungskirche Traunstein präsentiert das Yara-Ensemble das Requiem von Johannes Brahms.
URL:https://yara-ensemble.de/event/brahms-requiem-mit-dem-yara-ensemble/
LOCATION:Auferstehungskirche Traunstein\, Martin-Luther-Platz 6\, Traunstein\, 83278\, Germany
CATEGORIES:Konzert
END:VEVENT
END:VCALENDAR