BEGIN:VCALENDAR
VERSION:2.0
PRODID:-//Yara-Ensemble - ECPv6.11.2.1//NONSGML v1.0//EN
CALSCALE:GREGORIAN
METHOD:PUBLISH
X-WR-CALNAME:Yara-Ensemble
X-ORIGINAL-URL:https://yara-ensemble.de
X-WR-CALDESC:Events for Yara-Ensemble
REFRESH-INTERVAL;VALUE=DURATION:PT1H
X-Robots-Tag:noindex
X-PUBLISHED-TTL:PT1H
BEGIN:VTIMEZONE
TZID:UTC
BEGIN:STANDARD
TZOFFSETFROM:+0000
TZOFFSETTO:+0000
TZNAME:UTC
DTSTART:20250101T000000
END:STANDARD
END:VTIMEZONE
BEGIN:VEVENT
DTSTART;TZID=UTC:20250803T100000
DTEND;TZID=UTC:20250803T100000
DTSTAMP:20260422T215428
CREATED:20250430T115505Z
LAST-MODIFIED:20250430T120113Z
UID:273-1754215200-1754215200@yara-ensemble.de
SUMMARY:Kantatengottesdienst
DESCRIPTION:Kantatengottesdienst: J. S. Bach\, Jauchzet Gott in allen Landen\, BWV 51
URL:https://yara-ensemble.de/event/kantatengottesdienst/
LOCATION:Auferstehungskirche Traunstein\, Martin-Luther-Platz 6\, Traunstein\, 83278\, Germany
CATEGORIES:Konzert
END:VEVENT
BEGIN:VEVENT
DTSTART;TZID=UTC:20250830T110000
DTEND;TZID=UTC:20250830T110000
DTSTAMP:20260422T215428
CREATED:20250523T100355Z
LAST-MODIFIED:20250523T100610Z
UID:287-1756551600-1756551600@yara-ensemble.de
SUMMARY:FEL!X urban: Preisträger der göttingen händel competition
DESCRIPTION:Preisträgerkonzert des Yara-Ensembles für den Gewinn des Sonderpreises “Musik und Raum” der göttingen händel competition 2025.
URL:https://yara-ensemble.de/event/felx-urban-preistrager-der-gottingen-handel-competition/
LOCATION:Wallraf-Richartz-Museum\, Stiftersaal\, Obenmarspforten 40\, Köln\, 50667\, Germany
CATEGORIES:Konzert
END:VEVENT
BEGIN:VEVENT
DTSTART;TZID=UTC:20250830T123000
DTEND;TZID=UTC:20250830T123000
DTSTAMP:20260422T215428
CREATED:20250523T100503Z
LAST-MODIFIED:20250523T100551Z
UID:291-1756557000-1756557000@yara-ensemble.de
SUMMARY:FEL!X urban: Preisträger der göttingen händel competition
DESCRIPTION:Preisträgerkonzert des Yara-Ensembles für den Gewinn des Sonderpreises “Musik und Raum” der göttingen händel competition 2025.
URL:https://yara-ensemble.de/event/felx-urban-preistrager-der-gottingen-handel-competition-2/
LOCATION:Wallraf-Richartz-Museum\, Stiftersaal\, Obenmarspforten 40\, Köln\, 50667\, Germany
CATEGORIES:Konzert
END:VEVENT
END:VCALENDAR